BEGIN:VCALENDAR
VERSION:2.0
PRODID:-//wv.bleeding.org//NONSGML kigkonsult.se iCalcreator 2.30.10//
CALSCALE:GREGORIAN
METHOD:PUBLISH
UID:802c95d5-9041-4a2c-a756-bcb66c61ca32
X-WR-CALDESC:Spokes Men for Bleeders is a grass roots awareness and fundrai
 sing effort started by West Virginia parents\, Steve & Lisa Nick. Steve & 
 Lisa have two sons with severe hemophilia. Years ago\, Steve decided to be
 gin a one-day\, one-hundred-mile bike ride to bring awareness to West Virg
 inians who live each day with bleeding disorders. All proceeds from his ri
 de benefit WVNBDF. In turn\, Steve & Lisa partner with WVNBDF and sponsors
  to throw a finish line party for the riders and community members.
X-WR-RELCALID:40a84a06698b9689d05f4ba990999912
X-WR-TIMEZONE:America/New_York
BEGIN:VTIMEZONE
TZID:America/New_York
BEGIN:STANDARD
TZNAME:EST
DTSTART:20241103T020000
TZOFFSETFROM:-0400
TZOFFSETTO:-0500
RDATE:20251102T020000
RDATE:20261101T020000
END:STANDARD
BEGIN:DAYLIGHT
TZNAME:EDT
DTSTART:20250309T020000
TZOFFSETFROM:-0500
TZOFFSETTO:-0400
RDATE:20260308T020000
RDATE:20270314T020000
END:DAYLIGHT
END:VTIMEZONE
BEGIN:VEVENT
UID:bf1be117-ab7c-456f-a8a1-4918297e80a5
DTSTAMP:20260421T145342Z
DESCRIPTION:Spokes Men for Bleeders is a grass roots awareness and fundrais
 ing effort started by West Virginia parents\, Steve & Lisa Nick. Steve & L
 isa have two sons with severe hemophilia. Years ago\, Steve decided to beg
 in a one-day\, one-hundred-mile bike ride to bring awareness to West Virgi
 nians who live each day with bleeding disorders. All proceeds from his rid
 e benefit WVNBDF. In turn\, Steve & Lisa partner with WVNBDF and sponsors 
 to throw a finish line party for the riders and community members.
DTSTART;TZID=America/New_York:20251004T060000
DTEND;TZID=America/New_York:20251004T060001
LOCATION:New Life Community Church\, 4102 Tabler Station RD\, Inwood WV 254
 28
SUMMARY:Spokes Men for Bleeders
END:VEVENT
END:VCALENDAR
